BEGIN:VCALENDAR
VERSION:2.0
PRODID:-//Tukios.com/
BEGIN:VEVENT
UID:f44fb7ef-80ac-4185-9edd-0c317b6cb944@www.candlelightfuneralhome.com
DTSTAMP:20260422T214322Z
DTSTART:20260425T140000Z
DTEND:20260425T150000Z
SUMMARY:Public Gathering
DESCRIPTION:
URL:https://www.candlelightfuneralhome.com/obituaries/yuqing-liu
LOCATION:Candle Light Funeral Home 1835 Frederick Road  Catonsville MD 
	21228
GEO:39.2676345;-76.7564885
END:VEVENT
END:VCALENDAR