BEGIN:VCALENDAR
VERSION:2.0
PRODID:-//Tukios.com/
BEGIN:VEVENT
UID:709cb8ac-42e2-42a6-ae04-afc38cc0c7db@www.candlelightfuneralhome.com
DTSTAMP:20260422T213731Z
DTSTART:20260425T150000Z
DTEND:20260425T160000Z
SUMMARY:Funeral Service
DESCRIPTION:
URL:https://www.candlelightfuneralhome.com/obituaries/yuqing-liu
LOCATION:Candle Light Funeral Home 1835 Frederick Road  Catonsville MD 
	21228
GEO:39.2675984;-76.7565205
END:VEVENT
END:VCALENDAR