BEGIN:VCALENDAR
VERSION:2.0
PRODID:-//Tukios.com/
BEGIN:VEVENT
UID:ece9f387-7477-4263-80af-a2acdfd35628@www.candlelightfuneralhome.com
DTSTAMP:20260424T131053Z
DTSTART:20260426T180000Z
DTEND:20260426T200000Z
SUMMARY:Public Viewing
DESCRIPTION:
URL:https://www.candlelightfuneralhome.com/obituaries/joan-lambertson
LOCATION:Candle Light Funeral Home 1835 Frederick Road  Catonsville MD 
	21228
GEO:39.2675984;-76.7565205
END:VEVENT
END:VCALENDAR