BEGIN:VCALENDAR
VERSION:2.0
PRODID:-//Tukios.com/
BEGIN:VEVENT
UID:80597141-c58f-4e0d-9261-5855f0d2dd59@www.candlelightfuneralhome.com
DTSTAMP:20260423T214117Z
DTSTART:20260427T143000Z
DTEND:20260427T153000Z
SUMMARY:Mass
DESCRIPTION:
URL:https://www.candlelightfuneralhome.com/obituaries/joan-lambertson
LOCATION:Church of the Resurrection 3175 Paulskirk Drive  Ellicott City 
	MD 21042
GEO:39.2814909;-76.8304709
END:VEVENT
END:VCALENDAR