BEGIN:VCALENDAR
VERSION:2.0
PRODID:-//Tukios.com/
BEGIN:VEVENT
UID:5b568159-4110-4057-9a63-220f4cf48d4b@www.candlelightfuneralhome.com
DTSTAMP:20260423T213430Z
DTSTART:20260427T163000Z
DTEND:20260427T170000Z
SUMMARY:Burial
DESCRIPTION:
URL:https://www.candlelightfuneralhome.com/obituaries/joan-lambertson
LOCATION:Crest Lawn Memorial Gardens 2150 Mt. View Road  Marriottsville 
	MD 21104
GEO:39.3107045;-76.9340573
END:VEVENT
END:VCALENDAR