BEGIN:VCALENDAR
VERSION:2.0
PRODID:-//Tukios.com/
BEGIN:VEVENT
UID:5baf6ff9-f598-4dbc-b98c-844b2bfa17f4@www.candlelightfuneralhome.com
DTSTAMP:20260423T231626Z
DTSTART:20260501T140000Z
DTEND:20260501T150000Z
SUMMARY:Public Viewing
DESCRIPTION:
URL:https://www.candlelightfuneralhome.com/obituaries/anna-coburn
LOCATION:Candle Light Funeral Home 1835 Frederick Road  Catonsville MD 
	21228
GEO:39.2675984;-76.7565205
END:VEVENT
END:VCALENDAR