BEGIN:VCALENDAR
VERSION:2.0
PRODID:-//Tukios.com/
BEGIN:VEVENT
UID:f99e20f9-7219-41f8-b2d2-66e000b770d6@www.candlelightfuneralhome.com
DTSTAMP:20260423T230856Z
DTSTART:20260501T150000Z
DTEND:20260501T160000Z
SUMMARY:Funeral Service
DESCRIPTION:
URL:https://www.candlelightfuneralhome.com/obituaries/anna-coburn
LOCATION:Candle Light Funeral Home 1835 Frederick Road  Catonsville MD 
	21228
GEO:39.2675984;-76.7565205
END:VEVENT
END:VCALENDAR